BEGIN:VCALENDAR
VERSION:2.0
PRODID:-// - ECPv6.15.12.2//NONSGML v1.0//EN
CALSCALE:GREGORIAN
METHOD:PUBLISH
X-ORIGINAL-URL:https://resonancearts.org
X-WR-CALDESC:Events for 
REFRESH-INTERVAL;VALUE=DURATION:PT1H
X-Robots-Tag:noindex
X-PUBLISHED-TTL:PT1H
BEGIN:VTIMEZONE
TZID:America/Chicago
BEGIN:DAYLIGHT
TZOFFSETFROM:-0600
TZOFFSETTO:-0500
TZNAME:CDT
DTSTART:20240310T080000
END:DAYLIGHT
BEGIN:STANDARD
TZOFFSETFROM:-0500
TZOFFSETTO:-0600
TZNAME:CST
DTSTART:20241103T070000
END:STANDARD
BEGIN:DAYLIGHT
TZOFFSETFROM:-0600
TZOFFSETTO:-0500
TZNAME:CDT
DTSTART:20250309T080000
END:DAYLIGHT
BEGIN:STANDARD
TZOFFSETFROM:-0500
TZOFFSETTO:-0600
TZNAME:CST
DTSTART:20251102T070000
END:STANDARD
BEGIN:DAYLIGHT
TZOFFSETFROM:-0600
TZOFFSETTO:-0500
TZNAME:CDT
DTSTART:20260308T080000
END:DAYLIGHT
BEGIN:STANDARD
TZOFFSETFROM:-0500
TZOFFSETTO:-0600
TZNAME:CST
DTSTART:20261101T070000
END:STANDARD
END:VTIMEZONE
BEGIN:VEVENT
DTSTART;TZID=America/Chicago:20250715T200000
DTEND;TZID=America/Chicago:20250715T220000
DTSTAMP:20260419T164231
CREATED:20250627T192253Z
LAST-MODIFIED:20250711T205713Z
UID:1396-1752609600-1752616800@resonancearts.org
SUMMARY:Cross Modulations Series: Peter Maunu\, Kent Kessler\, Julian Kirshner + Sarah Clausen/Hunter Diamond Duo
DESCRIPTION:Get Tickets\n\n\n\n\nSet 1: Sarah Clausen/Hunter Diamond Duo  \n\n\n\nSarah Clausen is a saxophonist\, sound artist\, and composer based in Chicago\, IL. Using woodwinds\, synthesizers\, and electronics\, Sarah evokes much of the unexplainable feelings of warmth\, depth\, and nostalgia of the human experience through her compositions and soundscapes. \n\n\n\nHunter Diamond is a creative woodwind and sound artist living and performing in Chicago. Though he is most at home in the improvised music scene\, a mixture of conceptual\, composed\, and improvised performance keeps him perpetually present in the interdisciplinary Chicago creative arts community. \n\n\n\nSet 2: Peter Maunu\, Kent Kessler\, Julian Kirshner  \n\n\n\nJulian Kirshner reassembles a collective improvising trio alongside veterans Peter Maunu and Kent Kessler. This intergenerational band draws from different corners of the jazz and improvised music tradition\, paying homage to the Chicago scene\, the 80’s fusion landscape and contemporary experimental music.
URL:https://resonancearts.org/event/cross-modulations-series-peter-maunu-kent-kessler-julian-kirshner-sarah-clausen-hunter-diamond-duo/
END:VEVENT
END:VCALENDAR