BEGIN:VCALENDAR
VERSION:2.0
PRODID:-// - ECPv6.15.12.2//NONSGML v1.0//EN
CALSCALE:GREGORIAN
METHOD:PUBLISH
X-ORIGINAL-URL:https://resonancearts.org
X-WR-CALDESC:Events for 
REFRESH-INTERVAL;VALUE=DURATION:PT1H
X-Robots-Tag:noindex
X-PUBLISHED-TTL:PT1H
BEGIN:VTIMEZONE
TZID:America/Chicago
BEGIN:DAYLIGHT
TZOFFSETFROM:-0600
TZOFFSETTO:-0500
TZNAME:CDT
DTSTART:20240310T080000
END:DAYLIGHT
BEGIN:STANDARD
TZOFFSETFROM:-0500
TZOFFSETTO:-0600
TZNAME:CST
DTSTART:20241103T070000
END:STANDARD
BEGIN:DAYLIGHT
TZOFFSETFROM:-0600
TZOFFSETTO:-0500
TZNAME:CDT
DTSTART:20250309T080000
END:DAYLIGHT
BEGIN:STANDARD
TZOFFSETFROM:-0500
TZOFFSETTO:-0600
TZNAME:CST
DTSTART:20251102T070000
END:STANDARD
BEGIN:DAYLIGHT
TZOFFSETFROM:-0600
TZOFFSETTO:-0500
TZNAME:CDT
DTSTART:20260308T080000
END:DAYLIGHT
BEGIN:STANDARD
TZOFFSETFROM:-0500
TZOFFSETTO:-0600
TZNAME:CST
DTSTART:20261101T070000
END:STANDARD
END:VTIMEZONE
BEGIN:VEVENT
DTSTART;TZID=America/Chicago:20250318T200000
DTEND;TZID=America/Chicago:20250318T200000
DTSTAMP:20260419T210138
CREATED:20250129T191625Z
LAST-MODIFIED:20250308T221755Z
UID:1167-1742328000-1742328000@resonancearts.org
SUMMARY:Cross Modulations Series: Ra Bishop + Mai Sugimoto/Erik Sowa Duo
DESCRIPTION:$15 at the door\nno one gets turned away \nRa Bishop\nJeb Bishop \nA truly multi-generational group\, the ensemble Ra Bishop embodies an extraordinary breadth of combined experience. Master percussionist Avreeayl Ra (Professor Longhair\, Sun Ra Arkestra) and the singular trombonist Jeb Bishop (Jeb Bishop Trio/Quartet\, Peter Brötzmann Chicago Tentet) first worked together in bands led by guitarist Dan Phillips. Since Bishop’s move back to Chicago in 2022\, the two have sought ways to deepen their collaboration in new settings. For this trio and quartet performance at Chicago’s Hungry Brain in March 2024\, they were joined by veteran composer/bandleader/improviser Edward Wilkerson Jr (8 Bold Souls\, Shadow Vignettes) on woodwinds\, and on piano the remarkable and intrepid newcomer Erez Dessel\, a more recent arrival in Chicago who has quickly made himself heard there. The first set recorded that night in March was the trio of Wilkerson\, Ra\, and Bishop\, while Dessel\, coming from a recording session that day\, joined them for the second set. Both sets find the musicians immediately and fearlessly exploring a wide range of territory\, the bassless lineup promoting agility and a move to unconventional textures. The distinctive and fascinating results are heard on the group’s debut CD Of the Essence\, which contains the quartet set from that evening\, while the trio set is available as a download\, also from Amalgam. \n  \nMai Sugimoto/Erik Sowa Duo\nMai Sugimoto \nMai Sugimoto is a Japanese-born saxophonist\, composer\, and improviser based in Chicago. Her most recent release\, Sunlight Filtering Through Leaves (Asian Improv Records\, 2024)\, was reviewed by Peter Margasak\, who noted: “[the album] conveys that singular joy of good improvised music\, when it’s not about ripping solos but group unity. Naturally\,Im advising you all to pay close attention to Sugimoto from here on out.” \nErik Sowa \nErik Sowa is a Chicago based drummer/multi-instrumentalist whose musical directions are informed by post-rock\, free jazz\, ambient/noise\, and afro-beat traditions. In recent years\, Erik has collaborated with a wide range of performers of varied musical genres including Peter Maunu\, Jeb Bishop\, Norman Long\, Ben Schmidt-Swartz\, Mai Sugimoto\, Thomas Comerford\, and Snek Trio. In 2022\, Erik released a self-titled solo album of instrumental compositions titled “Cedar Lake Recordings Vol. 1” which was reviewed in Dusted Magazine.
URL:https://resonancearts.org/event/cross-modulations-series-bishop-dessel-ra-wilkerson-4tet-mai-sugimoto-chad-m-clark-duo/
END:VEVENT
END:VCALENDAR