BEGIN:VCALENDAR
VERSION:2.0
PRODID:-// - ECPv6.15.12.2//NONSGML v1.0//EN
CALSCALE:GREGORIAN
METHOD:PUBLISH
X-ORIGINAL-URL:https://resonancearts.org
X-WR-CALDESC:Events for 
REFRESH-INTERVAL;VALUE=DURATION:PT1H
X-Robots-Tag:noindex
X-PUBLISHED-TTL:PT1H
BEGIN:VTIMEZONE
TZID:America/Chicago
BEGIN:DAYLIGHT
TZOFFSETFROM:-0600
TZOFFSETTO:-0500
TZNAME:CDT
DTSTART:20240310T080000
END:DAYLIGHT
BEGIN:STANDARD
TZOFFSETFROM:-0500
TZOFFSETTO:-0600
TZNAME:CST
DTSTART:20241103T070000
END:STANDARD
BEGIN:DAYLIGHT
TZOFFSETFROM:-0600
TZOFFSETTO:-0500
TZNAME:CDT
DTSTART:20250309T080000
END:DAYLIGHT
BEGIN:STANDARD
TZOFFSETFROM:-0500
TZOFFSETTO:-0600
TZNAME:CST
DTSTART:20251102T070000
END:STANDARD
BEGIN:DAYLIGHT
TZOFFSETFROM:-0600
TZOFFSETTO:-0500
TZNAME:CDT
DTSTART:20260308T080000
END:DAYLIGHT
BEGIN:STANDARD
TZOFFSETFROM:-0500
TZOFFSETTO:-0600
TZNAME:CST
DTSTART:20261101T070000
END:STANDARD
END:VTIMEZONE
BEGIN:VEVENT
DTSTART;TZID=America/Chicago:20250121T190000
DTEND;TZID=America/Chicago:20250121T220000
DTSTAMP:20260420T000601
CREATED:20240101T130047Z
LAST-MODIFIED:20250116T185247Z
UID:1150-1737486000-1737496800@resonancearts.org
SUMMARY:Cross Modulations Series: Adam Shead's Adiaphora Orchestra - 2 Sets
DESCRIPTION:Doors at 7pm\nMusic at 8pm \n$15  \nAdam Shead is a multi-disciplinary artist living in Chicago\, IL whose practice spans the realms of improvised music\, music composition\, painting\, photography\, and poetry. Throughout Shead’s practice he attempts to create work that develops a sense of spacial presence in which the codification of human experience is dismantled and the prevailing homogenization of culture takes a back seat to personal truth\, encouraging the invention of new and personal ways of expressing and knowing oneself. Through this exploration of truth Shead hopes to develop work that allows a moment of reprieve while simultaneously challenging himself and his audience through active participation in invention\, acceptance\, compassion\, trust\, and grace.
URL:https://resonancearts.org/event/adam-sheads-adiaphora-orchestra-2-sets/
LOCATION:Color Club\, 4146 N Elston Ave.\, Chicago\, IL\, 60618\, United States
ORGANIZER;CN="Resonance Arts":MAILTO:info@resonancearts.org
END:VEVENT
END:VCALENDAR