BEGIN:VCALENDAR
VERSION:2.0
PRODID:-// - ECPv6.15.12.2//NONSGML v1.0//EN
CALSCALE:GREGORIAN
METHOD:PUBLISH
X-ORIGINAL-URL:https://resonancearts.org
X-WR-CALDESC:Events for 
REFRESH-INTERVAL;VALUE=DURATION:PT1H
X-Robots-Tag:noindex
X-PUBLISHED-TTL:PT1H
BEGIN:VTIMEZONE
TZID:America/Chicago
BEGIN:DAYLIGHT
TZOFFSETFROM:-0600
TZOFFSETTO:-0500
TZNAME:CDT
DTSTART:20230312T080000
END:DAYLIGHT
BEGIN:STANDARD
TZOFFSETFROM:-0500
TZOFFSETTO:-0600
TZNAME:CST
DTSTART:20231105T070000
END:STANDARD
BEGIN:DAYLIGHT
TZOFFSETFROM:-0600
TZOFFSETTO:-0500
TZNAME:CDT
DTSTART:20240310T080000
END:DAYLIGHT
BEGIN:STANDARD
TZOFFSETFROM:-0500
TZOFFSETTO:-0600
TZNAME:CST
DTSTART:20241103T070000
END:STANDARD
BEGIN:DAYLIGHT
TZOFFSETFROM:-0600
TZOFFSETTO:-0500
TZNAME:CDT
DTSTART:20250309T080000
END:DAYLIGHT
BEGIN:STANDARD
TZOFFSETFROM:-0500
TZOFFSETTO:-0600
TZNAME:CST
DTSTART:20251102T070000
END:STANDARD
END:VTIMEZONE
BEGIN:VEVENT
DTSTART;TZID=America/Chicago:20240319T190000
DTEND;TZID=America/Chicago:20240319T210000
DTSTAMP:20260422T162617
CREATED:20240124T222120Z
LAST-MODIFIED:20240125T154814Z
UID:1022-1710874800-1710882000@resonancearts.org
SUMMARY:Cross Modulation Series: Bill Harris/Norman Long Duo and Short Americans
DESCRIPTION:Bill Harris/Norman W. Long Duo\nBill Harris \nBill Harris (b. 1987\, Pittsburgh\, PA) is a percussionist\, improviser\, and audio engineer in Chicago. He also operates and produces for Amalgam\, a Chicago-based label and collective\, and co-operates Chicago recording studio Marmalade. Bill focuses on solo work incorporating acoustic and electronic material\, using feedback and timbral manipulation. He has recorded two solo records\, Blinking Glue\, and ONOMAT. Some of his most frequent collaborators include Ishmael Ali\, Jake Wark\, Carol Genetti\, Emily Beisel\, Allen Moore\, Timothee Quost\, Dave Rempis\, Jim Baker\, PT Bell\, Gerrit Hatcher\, Eli Namay\, Peter Maunu\, Matt Piet\, Brianna Tong\, Wills McKenna\, David Fletcher\, Jess McIntosh\, Aaron Smith\, Jeff Kimmel\, Molly Jones\, and Keefe Jackson. \nNorman W. Long \nNorman W. Long (b. 1973\, Chicago\, IL) is a sound artist/designer/composer based in Chicago\, IL. His current work focuses on sound art production within the larger context of landscape. He has exhibited and/or performed in galleries in Chicago\, Ithaca\, New York\, London\, and the San Francisco Bay Area. The processes involved in his practice lie within the area of field recording\, electro-acoustic composition and dub technique. His art/studio practice involves gardening\, collecting\, performing and recording to create\, objects\, environments\, situations in which the artist and audience are engaged in a dialogue about memory\, space\, value\, silence and the invisible. It is his desire that his practice offers us a space to consider our relationship to sound via social\, ecological structures\, our interiority and to affirm our existence. \nShort Americans\nShort Americans in an experimental music quartet from Minneapolis performing their own compositions as well as their friends. They have worked with people like Manfred Werder\, Kory Reeder\, T.J. Borden\, and others\, mainly play music ranging between open scores and free improvisation\, and have a recent release on All Sky. The group is Luke Martin\, Noah Ophoven-Baldwin\, Max Wanderman\, and Adam Zahller. On this Midwest tour we will be playing new pieces written by each of us\, superimposed on one another in random arrangements for each concert.
URL:https://resonancearts.org/event/cross-modulation-series-bill-harris-norman-long-duo/
LOCATION:Color Club\, 4146 N Elston Ave.\, Chicago\, IL\, 60618\, United States
ORGANIZER;CN="Resonance Arts":MAILTO:info@resonancearts.org
END:VEVENT
END:VCALENDAR