BEGIN:VCALENDAR
VERSION:2.0
PRODID:-// - ECPv6.15.12.2//NONSGML v1.0//EN
CALSCALE:GREGORIAN
METHOD:PUBLISH
X-ORIGINAL-URL:https://resonancearts.org
X-WR-CALDESC:Events for 
REFRESH-INTERVAL;VALUE=DURATION:PT1H
X-Robots-Tag:noindex
X-PUBLISHED-TTL:PT1H
BEGIN:VTIMEZONE
TZID:America/Chicago
BEGIN:DAYLIGHT
TZOFFSETFROM:-0600
TZOFFSETTO:-0500
TZNAME:CDT
DTSTART:20230312T080000
END:DAYLIGHT
BEGIN:STANDARD
TZOFFSETFROM:-0500
TZOFFSETTO:-0600
TZNAME:CST
DTSTART:20231105T070000
END:STANDARD
BEGIN:DAYLIGHT
TZOFFSETFROM:-0600
TZOFFSETTO:-0500
TZNAME:CDT
DTSTART:20240310T080000
END:DAYLIGHT
BEGIN:STANDARD
TZOFFSETFROM:-0500
TZOFFSETTO:-0600
TZNAME:CST
DTSTART:20241103T070000
END:STANDARD
BEGIN:DAYLIGHT
TZOFFSETFROM:-0600
TZOFFSETTO:-0500
TZNAME:CDT
DTSTART:20250309T080000
END:DAYLIGHT
BEGIN:STANDARD
TZOFFSETFROM:-0500
TZOFFSETTO:-0600
TZNAME:CST
DTSTART:20251102T070000
END:STANDARD
END:VTIMEZONE
BEGIN:VEVENT
DTSTART;TZID=America/Chicago:20240220T190000
DTEND;TZID=America/Chicago:20240220T210000
DTSTAMP:20260422T175943
CREATED:20240123T223404Z
LAST-MODIFIED:20250320T171730Z
UID:992-1708455600-1708462800@resonancearts.org
SUMMARY:Cross Modulations Series: Trio de Ruido and Sarah Clausen Quartet
DESCRIPTION:Trio de Ruido\nAusberto Acevedo – Bass\nCharles Malave – Guitars\nFelipe Tobar – Violins \n \nFelipe Tobar \nIn an incessant musical search since he moved to Chicago in 2011 from Santiago de Chile\, violinist and improviser Felipe Tobar’s style is influenced by classical\, folk and jazz. His repertoire includes South and North American folk and classical music\, jazz standards\, and his own compositions. Felipe has played in venues in Chile\, Argentina\, Peru\, the United Kingdom and the United States. He is also a violin teacher and ensemble conductor at The People’s Music School since 2013. \nCharlie Malave \nCharlie Malave’ aka Charlie Universe aka Charlie Wednesday\, is a musician\, multi-instrumentalist\, performing artist\, and video maker whose body of work has produced an array of unique instruments\, compositions\, music videos\, and theatrical productions. \nHe is the guitarist for Mucca Pazza (a performance-art\, marching band/rock band/orchestra)\, and half of the Creative Weirdo team which produces Adventure Sandwich (a cartoon-ish cardboard-based family show). As Charlie Wednesday\, he is the bandleader and co-host of Mr. and Mrs. Wednesday-Night (a mostly-improvised fever dream of music and variety). \nAusberto Acevedo \nAusberto Acevedo is a bassist\, composer\, improviser\, and teacher performing regularly both live and in the studio. Ausberto has performed or recorded with a variety of musicians including\, Gino Robair\, Kyle Bruckmann\, Jason Stein\, Guillermo Gregorio\, Keefe Jackson\, Frank Gratkowski\, Sebastian Strinning\, Jaimie Branch\, Dan Bitney\, and Jim Baker. Ausberto is a founding member of Resonance Arts\, a nonprofit organization dedicated to presenting unconventional performance in unlikely spaces throughout the greater Chicago area. \n** \nSarah Clausen Quartet\nSarah Clausen – Alto Saxophone\nJeff Swanson – Guitar\nKatie Ernst – Bass and Vocals\nJeremy Cunningham – Drums \n \nSarah Clausen  \nSarah Clausen is a saxophonist\, composer and educator based in Chicago\, IL. Utilizing space\, unique melodic content\, and diverse textures\, Sarah has developed an approach to improvisation and composition that is forward moving\, and inspired by many musical traditions. While completing her Bachelor’s of Music in Jazz Performance at Northern Illinois University\, Sarah studied under renowned Chicago Saxophonist Geof Bradfield\, and has had the opportunity to work with artists such as Anna Webber\, Jon Finlayson\, Maria Grand\, Jon Irabagon\, John O’Gallager\, James Falzone\, and Greg Ward. \nJeff Swanson \nGuitarist Jeff Swanson’s unique voice and open mind have been a valued part of Chicago’s diverse music scene for over a decade. A strong player in many disciplines\, he has been featured all around the world including the Jazz Zone (Lima\, Peru)\, Chicago Jazz Festival\, Hyde Park Jazz Festival\, Iowa City Jazz Festival\, Chicago Gospel Festival. Currently as a leader\, Jeff composes music for his trio “Embrace The Rain” featuring Matt Ulery and Jon Deitemyer. He has also recorded two albums with his high-energy electric jazz-influenced project\, Case-fitter\, on BACE Records. \nKatie Ernst  \nKatie Ernst is described by the Chicago Tribune as “a versatile young bassist who plays in far-flung bands and sings with uncommon delicacy and authenticity.” She is co-leader of the adventurous Chicago-based jazz trio Twin Talk\, folk-jazz duo Wayfaring\, indie rock band Edith Judith\, and has received widespread critical acclaim for her Dorothy Parker poetry song cycle Little Words\, which premiered at the Kennedy Center in Washington\, DC. \nJeremy Cunningham \nJeremy Cunningham is a drummer\, composer\, and improviser. Originally from Cincinnati\, he moved to Chicago in 2009\, where he currently performs and composes as an integral part of the city’s vibrant music scene. Cunningham has performed with an impressive roster of luminaries such as Von Freeman\, Jeff Parker\, Mike Allemana\, Marquis Hill\, Caroline Davis\, Nick Mazzarella\, Greg Ward\, Will Miller\, Lane Beckstrom\, and Dave Rempis. He can be heard on Resavoir’s eponymous debut on International Anthem\, Marquis Hill’s albums New Gospel and Sounds of the City\, Caroline Davis’s Live\, Work\, Play as well as on Nick Mazzarella’s Meridian Trio recording Triangulum.
URL:https://resonancearts.org/event/cross-modulations-series-trio-de-ruido-and-sarah-clausen/
LOCATION:Color Club\, 4146 N Elston Ave.\, Chicago\, IL\, 60618\, United States
ORGANIZER;CN="Resonance Arts":MAILTO:info@resonancearts.org
END:VEVENT
END:VCALENDAR