BEGIN:VCALENDAR
VERSION:2.0
PRODID:-// - ECPv6.15.12.2//NONSGML v1.0//EN
CALSCALE:GREGORIAN
METHOD:PUBLISH
X-ORIGINAL-URL:https://resonancearts.org
X-WR-CALDESC:Events for 
REFRESH-INTERVAL;VALUE=DURATION:PT1H
X-Robots-Tag:noindex
X-PUBLISHED-TTL:PT1H
BEGIN:VTIMEZONE
TZID:America/Chicago
BEGIN:DAYLIGHT
TZOFFSETFROM:-0600
TZOFFSETTO:-0500
TZNAME:CDT
DTSTART:20250309T080000
END:DAYLIGHT
BEGIN:STANDARD
TZOFFSETFROM:-0500
TZOFFSETTO:-0600
TZNAME:CST
DTSTART:20251102T070000
END:STANDARD
BEGIN:DAYLIGHT
TZOFFSETFROM:-0600
TZOFFSETTO:-0500
TZNAME:CDT
DTSTART:20260308T080000
END:DAYLIGHT
BEGIN:STANDARD
TZOFFSETFROM:-0500
TZOFFSETTO:-0600
TZNAME:CST
DTSTART:20261101T070000
END:STANDARD
BEGIN:DAYLIGHT
TZOFFSETFROM:-0600
TZOFFSETTO:-0500
TZNAME:CDT
DTSTART:20270314T080000
END:DAYLIGHT
BEGIN:STANDARD
TZOFFSETFROM:-0500
TZOFFSETTO:-0600
TZNAME:CST
DTSTART:20271107T070000
END:STANDARD
END:VTIMEZONE
BEGIN:VEVENT
DTSTART;TZID=America/Chicago:20260420T200000
DTEND;TZID=America/Chicago:20260420T220000
DTSTAMP:20260422T175439
CREATED:20260323T195333Z
LAST-MODIFIED:20260323T195404Z
UID:1521-1776715200-1776722400@resonancearts.org
SUMMARY:Cross Modulations Series:  Chad M. Clark + Ishmael Ali
DESCRIPTION:Chad M. Clark is a Chicago-based experimental guitarist known for his innovative approach to sound and improvisation. His work explores the physical properties of the guitar\, using everything from string tension to the resonance of the instrument’s wood to shape immersive sonic textures. \n\n\n\n\n\n\n\nIshmael Ali is a dynamic cellist\, guitarist\, improviser\, and composer based out of Chicago. His work centers on exploring sound through improvisation\, experimentation\, composition\, and collaboration\, focusing on a wide array of idiomatic approaches in an ever-changing\, always-growing list of projects informed by diverse influences. \n\n\n\nWhile varying drastically\, a common thread in his work is the juxtaposition of seemingly disparate elements to create something new: both foreign and familiar. \n\n\n\nIshmael is leader or co-leader of a plethora of working projects including Hearsay\, Ensemble Ziraph\, and Akjai. \n\n\n\nHe has also performed or recorded with Kahil El Zabar and the Ethnic Heritage Ensemble\, Avreeayl Ra\, Josh Berman\, Jim Baker\, Fred Jackson\, Ed Wilkerson\, Angel Bat Dawid\, Jason Stein\, and many more. \n\n\n\nIn addition to performing\, Mr. Ali is a co-curator of the Thursday night Improvised Music Series at Elastic Arts\, a co-founder and audio engineer at Marmalade\, a recording and rehearsal space in the West Loop\, and along with close friend and collaborator Bill Harris\, runs the co-operative record label Amalgam Music.
URL:https://resonancearts.org/event/cross-modulations-series-chad-m-clark-ishmael-ali/
END:VEVENT
BEGIN:VEVENT
DTSTART;TZID=America/Chicago:20260518T200000
DTEND;TZID=America/Chicago:20260518T220000
DTSTAMP:20260422T175439
CREATED:20260421T172911Z
LAST-MODIFIED:20260421T173111Z
UID:1528-1779134400-1779141600@resonancearts.org
SUMMARY:Cross Modulations Series: Jake Leech/ Sam Clapp Duo + Beatrice Lynn Trio
DESCRIPTION:Hideout Chicago 1354 W Wabansia Ave\, Chicago\, IL 60642 \n\n\n\n \n\n\n\nBeatrice Lynn is a saxophonist and composer originally from Beloit\, Wisconsin. She holds a Bachelor’s degree in Music Performance from the University of Wisconsin-Whitewater. As both a side-woman and a leader\, they performed at venues in the Midwest such as the Jazz Gallery\, Cafe Coda\, Merriman’s Playhouse and the Whistler. Her work combines elements of jazz\, classical\, rock and electronic music. In addition to performing and composing\, she has taught saxophone and flute at various public schools in the Chicago Suburbs and has been awarded multiple grants as a music researcher.  \n\n\n\nBeatrice Lynn\n\n\n\nJake Leech is a bassist\, improviser\, and score composer based in Chicago\, IL. \n\n\n\nSam Clapp is a video producer and composer living in Chicago. Recent projects: scoring films with band Cue Shop\, producing audio tours for the Art Institute of Chicago\, and curating the multichannel CLEAT concert series at Elastic Arts.
URL:https://resonancearts.org/event/cross-modulations-series-jake-leech-sam-clapp-duo-beatrice-lynn-trio/
END:VEVENT
END:VCALENDAR