BEGIN:VCALENDAR
VERSION:2.0
PRODID:-// - ECPv6.15.12.2//NONSGML v1.0//EN
CALSCALE:GREGORIAN
METHOD:PUBLISH
X-ORIGINAL-URL:https://resonancearts.org
X-WR-CALDESC:Events for 
REFRESH-INTERVAL;VALUE=DURATION:PT1H
X-Robots-Tag:noindex
X-PUBLISHED-TTL:PT1H
BEGIN:VTIMEZONE
TZID:America/Chicago
BEGIN:DAYLIGHT
TZOFFSETFROM:-0600
TZOFFSETTO:-0500
TZNAME:CDT
DTSTART:20220313T080000
END:DAYLIGHT
BEGIN:STANDARD
TZOFFSETFROM:-0500
TZOFFSETTO:-0600
TZNAME:CST
DTSTART:20221106T070000
END:STANDARD
BEGIN:DAYLIGHT
TZOFFSETFROM:-0600
TZOFFSETTO:-0500
TZNAME:CDT
DTSTART:20230312T080000
END:DAYLIGHT
BEGIN:STANDARD
TZOFFSETFROM:-0500
TZOFFSETTO:-0600
TZNAME:CST
DTSTART:20231105T070000
END:STANDARD
BEGIN:DAYLIGHT
TZOFFSETFROM:-0600
TZOFFSETTO:-0500
TZNAME:CDT
DTSTART:20240310T080000
END:DAYLIGHT
BEGIN:STANDARD
TZOFFSETFROM:-0500
TZOFFSETTO:-0600
TZNAME:CST
DTSTART:20241103T070000
END:STANDARD
END:VTIMEZONE
BEGIN:VEVENT
DTSTART;TZID=America/Chicago:20231121T190000
DTEND;TZID=America/Chicago:20231121T210000
DTSTAMP:20260419T181828
CREATED:20231227T204249Z
LAST-MODIFIED:20240401T150223Z
UID:884-1700593200-1700600400@resonancearts.org
SUMMARY:Cross Modulations Series: Tontine Ensemble | Ratchet
DESCRIPTION:Tontine Ensemble was founded in the spring of 2014 with the mission to perform improvisational and contemporary chamber works\, as well as champion new music from composers in their community. Its four current members first played together for a Blank Radio (Milwaukee\, WI) recording session and immediately began rehearsing regularly. Allen Russell\, Molly Lieberman\, Pat Reinholz\, and Barry Paul Clark are all classically trained musicians who teach and regularly perform in a variety of styles around the Milwaukee area and beyond. \nTontine Ensemble has appeared as guest artists at Mike Neumeyer and Friends\, Danceworks\, Inc. (Paleontology of a Woman – 2014\, Footsteps\, Shadows & Whispers – 2015)\, Milwaukee Follies\, Formations Series for New and Improvised Music\, Alverno Presents (Prince Uncovered – 2015)\, The Pre-Maturely Air Conditioned Arts Collective\, performed in the inaugural Milwaukee Fringe Festival in August 2016\, and collaborated on a new score to the choreography of Garrett Glassman for Milwaukee Ballet’s “MXE: Milwaukee Mixed” event in February 2018. \nThe ensemble has shared the stage with JOBS\, Netmoiré\, Lovely Socialite Mrs. Thomas W. Phipps\, 1913\, Geodes\, Trench\, Jonah Parzen-Johnson\, Jamison Williams\, Nestle\, Tyler Damon + Tashi Dorji duo.\, Spires That In The Sunset Rise + Michael Zerang\, and Rhythmplex founder Jon Mueller. \nRatchet is the a collective of improvisers consisting of Jeff Chan (Woodwinds – Tenor Saxophone\, Bass Clarinet\, Clarinet\, Flute)\, Chad Clark (Guitar)\, Michael Perkins (Piano\, Keyboards\, and Synth)\, and Ausberto Acevedo (Double Bass). \nThe quartet had previously collaborated in many other arenas but never as a unit. In 2023\, that changed when they debuted as the collective Ratchet
URL:https://resonancearts.org/event/cross-modulations-series-tontine-ensemble-ratchet/
LOCATION:Color Club\, 4146 N Elston Ave.\, Chicago\, IL\, 60618\, United States
ORGANIZER;CN="Resonance Arts":MAILTO:info@resonancearts.org
END:VEVENT
BEGIN:VEVENT
DTSTART;TZID=America/Chicago:20230919T190000
DTEND;TZID=America/Chicago:20230919T210000
DTSTAMP:20260419T181828
CREATED:20231227T204428Z
LAST-MODIFIED:20231227T211946Z
UID:886-1695150000-1695157200@resonancearts.org
SUMMARY:Cross Modulations Series: Chad M. Clark | Tim Daisy Duo and Snek Trio
DESCRIPTION:Tim Daisy is an American drummer and composer working in the fields of improvised and composed music. Tim moved to Chicago in 1997 and since that time has performed\, recorded\, and toured with many national and international improvised musicians and ensembles. \nIn 2011 he received the New Music America Composers Assistance Award and in 2011\, 2012 and 2017 the ASCAP Plus Award from the American Society of Composers\, Authors and Publishers. He has recorded over one hundred and thirty albums as a sideman or leader for labels including Relay\, (which he owns and operates)\, Not Two\, Clean Feed\, Astral Spirits\, Aerophonic\, Audiographic\, Sonorus\, Trost\, Utech\, New World\, and Okka Disk. \nChad Clark is an American composer\, guitarist\, improvisor\, and sound artist living in Evanston\, Illinois. He is also the founder of the legendary field recording collective Chicago Phonography\, a loose collective of artists interested in promoting creative activity in listening by producing and broadcasting unprocessed field recordings as an ensemble in a \ncontext of live improvisation. Motivated by the maxim “nature performs and we provide the secretarial services” (R. Murray Schafer The Tuning of the World). \nSnek Trio is a Chicago based psychedelic free-jazz party band featuring Reid Karris\, Janna Lee\, and Erik Sowa
URL:https://resonancearts.org/event/cross-modulations-series-chad-clark-tim-daisy-duo-and-snek-trio/
LOCATION:Color Club\, 4146 N Elston Ave.\, Chicago\, IL\, 60618\, United States
ORGANIZER;CN="Resonance Arts":MAILTO:info@resonancearts.org
END:VEVENT
BEGIN:VEVENT
DTSTART;TZID=America/Chicago:20230815T190000
DTEND;TZID=America/Chicago:20230815T210000
DTSTAMP:20260419T181828
CREATED:20231227T204854Z
LAST-MODIFIED:20231227T211235Z
UID:889-1692126000-1692133200@resonancearts.org
SUMMARY:Cross Modulations Series: Ed Wilkerson | Ben Lamar Gay Duo and Ratchet
DESCRIPTION:Edward Wilkerson Jr. is one of the great saxophone and clarinet players on the Chicago scene\, but from the ’80s into the new millennium may have become best known as a bandleader and composer\, particularly associated with medium- to large-scale projects (somewhat daunting in an era when creative music bandleaders are challenged to keep even small ensembles together). He has also been a major presence in Chicago’s Association for the Advancement of Creative Musicians (AACM)\, teaching composition at the organization’s music school and serving for a time as AACM president. \nBen LaMar Gay is a composer\, multi-instrumentalist\, singer\, poet\, and patently eclectic polymath who Afropunk has called “strikingly original\,” Pitchfork has called “uncategorizable\,” and Jeff Parker has called “hands down\, one of my favorite musicians on the planet today.” He channels a radical array of sound\, color\, and space through the universal language of folklore; but despite the widely attributed genius of his work\, his artistic approach and general demeanor are characterized by an endearing humbleness and warm humanity. \nRatchet is a Chicago based quartet featuring Ausberto Acevedo double bass\, Jeff Chan woodwinds\, Chad Clark guitars\, and Mike Perkins synths and electronics
URL:https://resonancearts.org/event/cross-modulations-series-ed-wilkerson-ben-lamar-gay-duo-and-ratchet/
LOCATION:Color Club\, 4146 N Elston Ave.\, Chicago\, IL\, 60618\, United States
ORGANIZER;CN="Resonance Arts":MAILTO:info@resonancearts.org
END:VEVENT
BEGIN:VEVENT
DTSTART;TZID=America/Chicago:20230718T190000
DTEND;TZID=America/Chicago:20230718T210000
DTSTAMP:20260419T181828
CREATED:20231227T205130Z
LAST-MODIFIED:20231227T211249Z
UID:893-1689706800-1689714000@resonancearts.org
SUMMARY:Cross Modulations Series: Jason Adasewicz and Ishmael Ali
DESCRIPTION:Ishmael Ali is a dynamic cellist\, guitarist\, improviser\, and composer based out of Chicago. His work centers on exploring sound through improvisation\, experimentation\, composition\, and collaboration\, focusing on a wide array of idiomatic approaches in an ever-changing\, always-growing list of projects informed by diverse influences. \nVibraphonist\, drummer\, and composer has been an integral member of Chicago’s jazz and improvised music scene\, bringing his aggressive yet lyrical style to both Chicago and international groups. Adasiewicz performs frequently in Europe. Adasiewicz won the 2011 Downbeat Annual Critic’s Poll in the Rising Star Vibes category and has continuously placed in the vibes category.
URL:https://resonancearts.org/event/cross-modulations-series-jason-adasewicz-and-ishmael-ali/
LOCATION:Color Club\, 4146 N Elston Ave.\, Chicago\, IL\, 60618\, United States
ORGANIZER;CN="Resonance Arts":MAILTO:info@resonancearts.org
END:VEVENT
BEGIN:VEVENT
DTSTART;TZID=America/Chicago:20230620T190000
DTEND;TZID=America/Chicago:20230620T210000
DTSTAMP:20260419T181828
CREATED:20231227T205443Z
LAST-MODIFIED:20231227T211302Z
UID:895-1687287600-1687294800@resonancearts.org
SUMMARY:Cross Modulations Series: Norman W. Long and Emily Rach Beisel
DESCRIPTION:Norman W. Long is a sound artist/designer/composer based in Chicago\, IL. His current work focuses on sound art production within the larger context of landscape. \nEmily Rach Beisel is a Chicago-based improvisor\, composer\, educator\, curator and woodwind specialist. Beisel is known for visceral performances combining extended instrumental techniques with heavy amplification and timbral effects.
URL:https://resonancearts.org/event/cross-modulations-series-norman-w-long-and-emily-rach-beisel/
LOCATION:Color Club\, 4146 N Elston Ave.\, Chicago\, IL\, 60618\, United States
ORGANIZER;CN="Resonance Arts":MAILTO:info@resonancearts.org
END:VEVENT
END:VCALENDAR